BEGIN:VCALENDAR
PRODID:-//eluceo/ical//2.0/EN
VERSION:2.0
CALSCALE:GREGORIAN
BEGIN:VEVENT
UID:0d617b350e6af77afb3bc21a8b0da660
DTSTAMP:20260422T041409Z
SUMMARY:International Assoc Of Jewish Free Loan Conference Day 1
DESCRIPTION:UJA Federation of Greater Toronto\nJewish Toronto Calendar\nhtt
 ps://jewishtoronto.com/calendar/international-assoc-of-jewish-free-loan-co
 nference-day-1\n\nThe annual conference of IAJFL welcoming delegates acros
 s North America and beyond.
DTSTART;TZID=America/Toronto:20141026T120000
DTEND;TZID=America/Toronto:20141028T140000
END:VEVENT
END:VCALENDAR
