BEGIN:VCALENDAR
PRODID:-//eluceo/ical//2.0/EN
VERSION:2.0
CALSCALE:GREGORIAN
BEGIN:VEVENT
UID:99654cdcc9b1b353287c95c364e958a9
DTSTAMP:20260420T093422Z
SUMMARY:Interfaith Dialogue: wotj a rabbi\, a priest and an imam
DESCRIPTION:UJA Federation of Greater Toronto\nJewish Toronto Calendar\nhtt
 ps://jewishtoronto.com/calendar/interfaith-dialogue-wotj-a-rabbi-a-priest-
 and-an-imam-1550849924\n\nCan the violence in our scriptures justify viole
 nce in todays world?\nAn open forum with a rabbi (Michael Stroh)\, a pries
 t (John Hill) and an imam (Liyakat Takim) respond.
DTSTART;TZID=America/Toronto:20190331T140000
DTEND;TZID=America/Toronto:20190331T160000
END:VEVENT
END:VCALENDAR
