BEGIN:VCALENDAR
PRODID:-//eluceo/ical//2.0/EN
VERSION:2.0
CALSCALE:GREGORIAN
BEGIN:VEVENT
UID:b374c4713f7f8c4dd0adc34eca5aea86
DTSTAMP:20260423T090345Z
SUMMARY:Installation of Senior Rabbi Adam Cutler at Adath Israel Congregati
 on
DESCRIPTION:UJA Federation of Greater Toronto\nJewish Toronto Calendar\nhtt
 ps://jewishtoronto.com/calendar/installation-of-senior-rabbi-adam-cutler-a
 t-adath-israel-congregation-1524665940\n\nJoin us to formally welcome Rabb
 i Cutler and his family to the Adath Israel Community.\n\nBring your famil
 y and celebrate a small portion of Mother’s Day and Yom Yerushalayim for
  this momentous event.\n\nFeatured Guest\, Arnold M. Eisen\, Chancellor of
  the Jewish Theological Seminary NYC will install Rabbi Cutler.\n\nChildca
 re provided during the Installation Service.\nLight lunch will be served a
 fter the installation.
DTSTART;TZID=America/Toronto:20180513T110000
DTEND;TZID=America/Toronto:20180513T130000
END:VEVENT
END:VCALENDAR
