BEGIN:VCALENDAR
PRODID:-//eluceo/ical//2.0/EN
VERSION:2.0
CALSCALE:GREGORIAN
BEGIN:VEVENT
UID:01dc42b927f62243af64843ea2508dc1
DTSTAMP:20260422T143403Z
SUMMARY:Insights to Tracing your Roots: An Introduction to Genealogy
DESCRIPTION:UJA Federation of Greater Toronto\nJewish Toronto Calendar\nhtt
 ps://jewishtoronto.com/calendar/insights-to-tracing-your-roots-an-introduc
 tion-to-genealogy-1574716889\n\nThe Toronto Workmen's Circle hosts a lectu
 re on Jewish genealogical research and DNA testing\, presented by Hersz (J
 erry) Scherer\, Sunday December 8th at 2:00 pm at the Workmen's Circle Cen
 tre\, 471 Lawrence Ave W.
DTSTART;TZID=America/Toronto:20191208T140000
DTEND;TZID=America/Toronto:20191208T160000
END:VEVENT
END:VCALENDAR
