BEGIN:VCALENDAR
PRODID:-//eluceo/ical//2.0/EN
VERSION:2.0
CALSCALE:GREGORIAN
BEGIN:VEVENT
UID:46c45c602d6449c1470246f4697407c6
DTSTAMP:20260421T124146Z
SUMMARY:Insider Briefing with Khaled Abu Toameh:
DESCRIPTION:UJA Federation of Greater Toronto\nJewish Toronto Calendar\nhtt
 ps://jewishtoronto.com/calendar/insider-briefing-with-khaled-abu-toameh-16
 18928654\n\nJoin HonestReporting Canada for our Insider Briefing\, with Kh
 aled Abu Toameh\, noted journalist and Senior Fellow with the Gatestone In
 stitute. Mr. Abu Toameh\, an Arab Israeli\, has worked extensively in Isra
 el and the Palestinian Authority-managed territories\, is a noted expert i
 n the corruption taking place under the Palestinian Authority.\nThere is n
 o cost to join\, and all are welcome.\n\nWHAT: Insider Briefing with Khale
 d Abu Toameh\nWHEN: Sunday\, April 25 at 1pm eastern time\nHOW TO...
DTSTART;TZID=America/Toronto:20210425T010000
DTEND;TZID=America/Toronto:20210425T020000
END:VEVENT
END:VCALENDAR
