BEGIN:VCALENDAR
PRODID:-//eluceo/ical//2.0/EN
VERSION:2.0
CALSCALE:GREGORIAN
BEGIN:VEVENT
UID:1d7e9c7ec5b0260b675f24bd51cb8836
DTSTAMP:20260420T103824Z
SUMMARY:InsideOut Health + Fitness Spring into Action walk or run for diabe
 tes!
DESCRIPTION:UJA Federation of Greater Toronto\nJewish Toronto Calendar\nhtt
 ps://jewishtoronto.com/calendar/insideout-health--fitness-spring-into-acti
 on-walk-or-run-for-diabetes-1488647757\n\n"Spring Into Action!" 12th annua
 l Walk or Run for Diabetes is happening on April 22\, 2017 at Talbot Park 
 in Toronto\, Ontario.\nHelp us reach our goal of $40\,000 this year in sup
 port of York University Diabetes Sports Camp and Diabetes Canada.\n\nDiabe
 tes affects 1 in 5 Canadians. It is the fasting growing chronic disease in
  North America and a global pandemic. Help us raise money for a awareness\
 , education and a cure!
DTSTART;TZID=America/Toronto:20170422T090000
DTEND;TZID=America/Toronto:20170422T235900
END:VEVENT
END:VCALENDAR
