BEGIN:VCALENDAR
PRODID:-//eluceo/ical//2.0/EN
VERSION:2.0
CALSCALE:GREGORIAN
BEGIN:VEVENT
UID:86fbdefcf27b79e3236030849be687c7
DTSTAMP:20260420T195715Z
SUMMARY:Inclusive Ballroom and Latin Dance Workshop
DESCRIPTION:UJA Federation of Greater Toronto\nJewish Toronto Calendar\nhtt
 ps://jewishtoronto.com/calendar/inclusive-ballroom-and-latin-dance-worksho
 p\n\nInclusive Ballroom and Latin Dance Workshop\nPresented with Wheel Dan
 ce\nAll ages and all abilities are welcome!\nSunday May 10 | 2:15-3:15 pm\
 nDrop in: $5\nRegister : (416) 924-6211 x 0\nInfo (416) 924-6211 x 300 liv
 iyam@mnjcc.org
DTSTART;TZID=America/Toronto:20150510T141500
DTEND;TZID=America/Toronto:20150510T151500
END:VEVENT
END:VCALENDAR
