BEGIN:VCALENDAR
PRODID:-//eluceo/ical//2.0/EN
VERSION:2.0
CALSCALE:GREGORIAN
BEGIN:VEVENT
UID:b7d314daa52d9522d447a8122298bd11
DTSTAMP:20260419T135946Z
SUMMARY:The House Toronto - In Limbo: Recent Graduate Networking Night
DESCRIPTION:UJA Federation of Greater Toronto\nJewish Toronto Calendar\nhtt
 ps://jewishtoronto.com/calendar/in-limbo-recent-graduate-networking-night-
 1469480423\n\nFor more information about the event visit thehousetoronto.c
 om\, or contact Bonnie Oppenheimer at bonnie@thehousetoronto.com.
DTSTART;TZID=America/Toronto:20160831T193000
DTEND;TZID=America/Toronto:20160831T223000
END:VEVENT
END:VCALENDAR
