BEGIN:VCALENDAR
PRODID:-//eluceo/ical//2.0/EN
VERSION:2.0
CALSCALE:GREGORIAN
BEGIN:VEVENT
UID:e055a2e43669938846222d271ead67b1
DTSTAMP:20260425T193636Z
SUMMARY:In Conversation with Writer Assaf Gavron
DESCRIPTION:UJA Federation of Greater Toronto\nJewish Toronto Calendar\nhtt
 ps://jewishtoronto.com/calendar/in-conversation-with-writer-assaf-gavron-1
 460553978\n\nGavron will be in conversation with writer David Bezmozgis.\n
 \nWith a string of international literary awards and bestselling novels to
  his credit\, Assaf Gavron has earned his place as a foremost Israeli auth
 or under 50. In his most recent successes The Hilltop and Tel Aviv Noir\, 
 Gavron portrays an unvarnished\, authentic Israeli society. “His clear a
 nd honest writing blasts right through the clichés and the politically co
 rrect surface to touch the chaotic\, ambiguous core of the Israeli ide...
DTSTART;TZID=America/Toronto:20160605T190000
DTEND;TZID=America/Toronto:20160605T210000
END:VEVENT
END:VCALENDAR
