BEGIN:VCALENDAR
PRODID:-//eluceo/ical//2.0/EN
VERSION:2.0
CALSCALE:GREGORIAN
BEGIN:VEVENT
UID:bbbe97b411dc982b9bf94aa2ec24db01
DTSTAMP:20260422T032101Z
SUMMARY:In Conversation with Rhonda Lenton
DESCRIPTION:UJA Federation of Greater Toronto\nJewish Toronto Calendar\nhtt
 ps://jewishtoronto.com/calendar/in-conversation-with-rhonda-lenton-1663695
 382\n\nAn invitation-only event by Hillel Ontario.
DTSTART;TZID=America/Toronto:20221109T193000
DTEND;TZID=America/Toronto:20221109T213000
END:VEVENT
END:VCALENDAR
