BEGIN:VCALENDAR
PRODID:-//eluceo/ical//2.0/EN
VERSION:2.0
CALSCALE:GREGORIAN
BEGIN:VEVENT
UID:f141c40d926d1f59c53a8d44e64be744
DTSTAMP:20260423T190536Z
SUMMARY:In Conversation with Rabbi Flanzraich and Kent Yalowitz 
DESCRIPTION:UJA Federation of Greater Toronto\nJewish Toronto Calendar\nhtt
 ps://jewishtoronto.com/calendar/in-conversation-with-rabbi-flanzraich-and-
 kent-yalowitz-1449159791\n\nJoin Rabbi Flanzraich and Kent Yalowitz for an
  in-depth conversation.\n7:30 pm
DTSTART;TZID=America/Toronto:20160511T000000
DTEND;TZID=America/Toronto:20160511T000000
END:VEVENT
END:VCALENDAR
