BEGIN:VCALENDAR
PRODID:-//eluceo/ical//2.0/EN
VERSION:2.0
CALSCALE:GREGORIAN
BEGIN:VEVENT
UID:8505a01b52d08f32be3e6d8c404ebf60
DTSTAMP:20260423T032203Z
SUMMARY:In Conversation: Rabbis Yoel Glick And John Moscowitz
DESCRIPTION:UJA Federation of Greater Toronto\nJewish Toronto Calendar\nhtt
 ps://jewishtoronto.com/calendar/in-conversation-rabbis-yoel-glick-and-john
 -moscowitz-1457559079\n\nOne rabbi has Orthodox s'micha\, the other Reform
  s'micha -- though you can't always tell which is which. Neither is typica
 l and both learn from one another. Join this ongoing conversation! Free.
DTSTART;TZID=America/Toronto:20160328T193000
DTEND;TZID=America/Toronto:20160328T213000
END:VEVENT
END:VCALENDAR
