BEGIN:VCALENDAR
PRODID:-//eluceo/ical//2.0/EN
VERSION:2.0
CALSCALE:GREGORIAN
BEGIN:VEVENT
UID:ce74bd14781e53401e6e0847d53ed4d9
DTSTAMP:20260426T014904Z
SUMMARY:UJA | ILR Holocaust Museum Salon Night
DESCRIPTION:UJA Federation of Greater Toronto\nJewish Toronto Calendar\nhtt
 ps://jewishtoronto.com/calendar/ilr-holocaust-museum-salon-night\n\nThis i
 s a private event. Details to follow. 
DTSTART;TZID=America/Toronto:20220607T000000
DTEND;TZID=America/Toronto:20220607T235959
END:VEVENT
END:VCALENDAR
