BEGIN:VCALENDAR
PRODID:-//eluceo/ical//2.0/EN
VERSION:2.0
CALSCALE:GREGORIAN
BEGIN:VEVENT
UID:ed9d54033e62d9d32f2ac2329fab3d39
DTSTAMP:20260421T212613Z
SUMMARY: ILR Dinner
DESCRIPTION:UJA Federation of Greater Toronto\nJewish Toronto Calendar\nhtt
 ps://jewishtoronto.com/calendar/ilr-dinner\n\nILR Dinner
DTSTART;TZID=America/Toronto:20140408T190000
DTEND;TZID=America/Toronto:20140408T210000
END:VEVENT
END:VCALENDAR
