BEGIN:VCALENDAR
PRODID:-//eluceo/ical//2.0/EN
VERSION:2.0
CALSCALE:GREGORIAN
BEGIN:VEVENT
UID:0d979e77aeea1fd1c3ef0c241ed709a5
DTSTAMP:20260425T133631Z
SUMMARY:Anne Frank A History for Today - Starts today
DESCRIPTION:UJA Federation of Greater Toronto\nJewish Toronto Calendar\nhtt
 ps://jewishtoronto.com/calendar/iingston-frontenac-public-library-presents
 -anne-frank-a-history-for-today\n\nThe “Anne Frank – A History for Tod
 ay” exhibition is coming to the Kingston Frontenac Public Library \n\nF
 rom Monday September 26\, 2016 until Saturday November 26\, 2016\, the tra
 veling exhibition will be on display in the Wilson Room of Kingston Fronte
 nac Public Library’s Central Branch. \n\nExhibition Hours \nMondays 9-
 9\nTuesdays\, Wednesdays and Thursdays 1-9\nFridays and Saturdays 9-5\nSun
 days (beginning October 16)  1-5\n\nPlease note that the exhibition will 
 be closed to the p...
DTSTART;TZID=America/Toronto:20160926T090000
DTEND;TZID=America/Toronto:20160926T170000
END:VEVENT
END:VCALENDAR
