BEGIN:VCALENDAR
PRODID:-//eluceo/ical//2.0/EN
VERSION:2.0
CALSCALE:GREGORIAN
BEGIN:VEVENT
UID:60879544b9cfb6822b1b6add8357cec7
DTSTAMP:20260424T144725Z
SUMMARY:ICRF Women of Action Luncheon
DESCRIPTION:UJA Federation of Greater Toronto\nJewish Toronto Calendar\nhtt
 ps://jewishtoronto.com/calendar/icrf-women-of-action-luncheon-1757938089\n
 \nJoin us for the 24th Annual Women of Action Celebration honouring 4 incr
 edible women that have demonstrated excellence in their chosen professions
  and fields of endeavour and share a strong passion for humanitarian cause
 s and giving back to their community.
DTSTART;TZID=America/Toronto:20260503T110000
DTEND;TZID=America/Toronto:20260503T143000
END:VEVENT
END:VCALENDAR
