BEGIN:VCALENDAR
PRODID:-//eluceo/ical//2.0/EN
VERSION:2.0
CALSCALE:GREGORIAN
BEGIN:VEVENT
UID:3e8b8145b850637f5f95f81d6a833194
DTSTAMP:20260425T131926Z
SUMMARY:ICRF Revolving Tables
DESCRIPTION:UJA Federation of Greater Toronto\nJewish Toronto Calendar\nhtt
 ps://jewishtoronto.com/calendar/icrf-revolving-tables-1690897648\n\nRevolv
 ing Tables is ICRF's signature Next Generation networking event!\n\nOver a
  three course dinner you will revolve tables and network with a new mentor
  and young professionals for a unique experience at each course.\n\nYou wi
 ll choose your top 5 mentors at checkout when purchasing tickets. Mentors 
 will be assigned on a first come first serve basis.\n\nPast mentors includ
 ed top executives\, and CEO's of companies like Bell Canada\, NBA\, TikTok
 \, SmartCentres and so many more!
DTSTART;TZID=America/Toronto:20240306T190000
DTEND;TZID=America/Toronto:20240306T220000
END:VEVENT
END:VCALENDAR
