BEGIN:VCALENDAR
PRODID:-//eluceo/ical//2.0/EN
VERSION:2.0
CALSCALE:GREGORIAN
BEGIN:VEVENT
UID:7975287cf5a691c986dfe0323ba83fe1
DTSTAMP:20260419T230131Z
SUMMARY:ICRF Presents
DESCRIPTION:UJA Federation of Greater Toronto\nJewish Toronto Calendar\nhtt
 ps://jewishtoronto.com/calendar/icrf-presents-1470242291\n\nICRF Presents 
 is an annual event hosted by Israel Cancer Research Fund (ICRF) that bring
 s together live entertainment and a shared mission to eradicate cancer in 
 our lifetime. This year's event will be an evening of musical entertainmen
 t featuring the collaboration of beautiful voices and incredible talent. M
 ore than 500 guests are expected to attend this family-friendly event.
DTSTART;TZID=America/Toronto:20161207T180000
DTEND;TZID=America/Toronto:20161207T230000
END:VEVENT
END:VCALENDAR
