BEGIN:VCALENDAR
PRODID:-//eluceo/ical//2.0/EN
VERSION:2.0
CALSCALE:GREGORIAN
BEGIN:VEVENT
UID:fffae6f92db4820019926526282e2de8
DTSTAMP:20260423T190526Z
SUMMARY:ICRF Health Series: Ovarian Cancer
DESCRIPTION:UJA Federation of Greater Toronto\nJewish Toronto Calendar\nhtt
 ps://jewishtoronto.com/calendar/icrf-health-series-ovarian-cancer-17470667
 62\n\nJoin us Thursday June 5 at Petah Tikva Synagogue for our next ICRF H
 ealth Series panel highlighting Ovarian Cancer featuring ICRF-funded resea
 rcher Ruth Perets and a curated panel of oncologists and specialists!
DTSTART;TZID=America/Toronto:20250605T190000
DTEND;TZID=America/Toronto:20250605T210000
END:VEVENT
END:VCALENDAR
