BEGIN:VCALENDAR
PRODID:-//eluceo/ical//2.0/EN
VERSION:2.0
CALSCALE:GREGORIAN
BEGIN:VEVENT
UID:4a5f59226fb559468452ecfc2fe5c8f4
DTSTAMP:20260420T192416Z
SUMMARY:ICRF 10th Annual Bike for the Fight Spinathon in memory of Howard A
 nson z"l
DESCRIPTION:UJA Federation of Greater Toronto\nJewish Toronto Calendar\nhtt
 ps://jewishtoronto.com/calendar/icrf-10th-annual-bike-for-the-fight-spinat
 hon-in-memory-of-howard-anson-zl-1657728853\n\nYou can also fundraise in t
 eams... get your squad together and win! Don&#039\;t forget.. we have amaz
 ing prizes for our top fundraisers and teams.\n\nThanks to sponsors and do
 nors\, like you\, Bike for the Fight has been raising money for cancer res
 earch for 10 successful years. Thank you to everyone who supported our vir
 tual editions of Bike for the Fight\, they were beyond successful! Over th
 e past 10 years we&#039\;ve been able to raise over $750\,000 and counting
 !\n\nWe are so excited to bring Bike for...
DTSTART;TZID=America/Toronto:20220918T130000
DTEND;TZID=America/Toronto:20220918T150000
END:VEVENT
END:VCALENDAR
