BEGIN:VCALENDAR
PRODID:-//eluceo/ical//2.0/EN
VERSION:2.0
CALSCALE:GREGORIAN
BEGIN:VEVENT
UID:9cf6c19d24940611bd9aeca8e68d1969
DTSTAMP:20260425T164124Z
SUMMARY:HUMANISTIC  JUDAISM - How Oraynu "Does Jewish!"
DESCRIPTION:UJA Federation of Greater Toronto\nJewish Toronto Calendar\nhtt
 ps://jewishtoronto.com/calendar/humanistic--judaism---how-oraynu-does-jewi
 sh-1650936742\n\nCome learn all about secular/cultural/humanistic Judaism 
 and the 5Ws: Who We Are\, Why We're Different\, When We Do What We Do\, an
 d Wow! Where has Humanistic Judaism been all my life?? Via Zoom\; led by O
 raynu staff. Everyone welcome. Please register: www.oraynu.org
DTSTART;TZID=America/Toronto:20220503T193000
DTEND;TZID=America/Toronto:20220503T211500
END:VEVENT
END:VCALENDAR
