BEGIN:VCALENDAR
PRODID:-//eluceo/ical//2.0/EN
VERSION:2.0
CALSCALE:GREGORIAN
BEGIN:VEVENT
UID:bd5b1db6869052411f8393527fe2be05
DTSTAMP:20260421T092718Z
SUMMARY:How the Islamic State Threatens Canada and the West
DESCRIPTION:UJA Federation of Greater Toronto\nJewish Toronto Calendar\nhtt
 ps://jewishtoronto.com/calendar/how-the-islamic-state-threatens-canada-and
 -the-west-1456109415\n\nHOW THE ISLAMIC STATE THREATENS CANADA AND THE WES
 T\nJONATHAN D. HALEVI\nEditor and Co-founder of CIJNEWS.COM\nFormer IDF In
 telligence officer (Lt. Colonel)\, Mr. Halevi is a senior analyst at the J
 erusalem Center for Public Affairs on the Middle East. He is an expert in 
 such topics as counter-terrorism and radical Islam. He is the founder of t
 he Canadian Centre for Intelligence and Analysis\, and was summoned to tes
 tify in the House of Commons on the threat of the Islamic State to Canada 
 and t...
DTSTART;TZID=America/Toronto:20160303T193000
DTEND;TZID=America/Toronto:20160303T210000
END:VEVENT
END:VCALENDAR
