BEGIN:VCALENDAR
PRODID:-//eluceo/ical//2.0/EN
VERSION:2.0
CALSCALE:GREGORIAN
BEGIN:VEVENT
UID:bcc07de099c149f81536a389ef7aab4b
DTSTAMP:20260424T234802Z
SUMMARY:How Far Can You Go? 
DESCRIPTION:UJA Federation of Greater Toronto\nJewish Toronto Calendar\nhtt
 ps://jewishtoronto.com/calendar/how-far-can-you-go\n\nHow Far Can You Go?\
 nPresented by REAson d’etre dance productions\nThursday\, May 14 I 8:00 
 pm\nDance performance and film screening with Israeli dance artist Sharon 
 Fridman\; a visionary not only in dance technique\, but in his ability to 
 help us connect our disparate parts. Part of the 2015 Contact Dance Intern
 ational Film Festival\, the evening will involve screening of films from C
 ompañía Sharon Fridman\, a live performance of Hasta Dónde?\, and a Q&A
  with Sharon Fridman.\nAl Green Theatre...
DTSTART;TZID=America/Toronto:20150514T200000
DTEND;TZID=America/Toronto:20150514T220000
END:VEVENT
END:VCALENDAR
