BEGIN:VCALENDAR
PRODID:-//eluceo/ical//2.0/EN
VERSION:2.0
CALSCALE:GREGORIAN
BEGIN:VEVENT
UID:05c5f3112f85ab9d8d6ea1c892e31e4e
DTSTAMP:20260421T234427Z
SUMMARY:How do we eat\, love and pray in different cultures?
DESCRIPTION:UJA Federation of Greater Toronto\nJewish Toronto Calendar\nhtt
 ps://jewishtoronto.com/calendar/how-do-we-eat-love-and-pray-in-different-c
 ultures-1492896772\n\nA Temple Sinai Women Event — How do we eat\, love 
 and pray in different cultures?\n\nOur multi-cultural women’s panel will
  discuss some of life’s spicy questions followed by a round table discus
 sion with other Sinai women. Register over a glass of Prosecco and hors d
 ’oeuvres while networking with other fabulous women. Cost: Members: $18\
 ; Non-members: $25. 
DTSTART;TZID=America/Toronto:20170511T190000
DTEND;TZID=America/Toronto:20170511T210000
END:VEVENT
END:VCALENDAR
