BEGIN:VCALENDAR
PRODID:-//eluceo/ical//2.0/EN
VERSION:2.0
CALSCALE:GREGORIAN
BEGIN:VEVENT
UID:65db8e5d96fcf493e176d8cc88e8b18b
DTSTAMP:20260423T130741Z
SUMMARY:House of Cards Event sponsored by CJPAC
DESCRIPTION:UJA Federation of Greater Toronto\nJewish Toronto Calendar\nhtt
 ps://jewishtoronto.com/calendar/house-of-cards-event\n\nDetails to follow.
 \n\nLocation TBA
DTSTART;TZID=America/Toronto:20150228T193000
DTEND;TZID=America/Toronto:20150228T220000
END:VEVENT
END:VCALENDAR
