BEGIN:VCALENDAR
PRODID:-//eluceo/ical//2.0/EN
VERSION:2.0
CALSCALE:GREGORIAN
BEGIN:VEVENT
UID:ede0c6ee112396da8ce95fb941063a4a
DTSTAMP:20260422T101649Z
SUMMARY:Honouring Our Heroes Casino Evening  (Beit Halochem) 
DESCRIPTION:UJA Federation of Greater Toronto\nJewish Toronto Calendar\nhtt
 ps://jewishtoronto.com/calendar/honouring-our-heroes-casino-evening--beit-
 halochem-1457708775\n\nNextJEN presents 'Beit Halochem Casino Evening'. Po
 ker tournament and casino style to raise money for the rehabilitation of i
 njured Israeli soldiers and civilians due to terror.
DTSTART;TZID=America/Toronto:20160515T183000
DTEND;TZID=America/Toronto:20160515T230000
END:VEVENT
END:VCALENDAR
