BEGIN:VCALENDAR
PRODID:-//eluceo/ical//2.0/EN
VERSION:2.0
CALSCALE:GREGORIAN
BEGIN:VEVENT
UID:619fae0cc4f1092651b8804d32331422
DTSTAMP:20260422T034038Z
SUMMARY:Honey Harvest at Bela Farm
DESCRIPTION:UJA Federation of Greater Toronto\nJewish Toronto Calendar\nhtt
 ps://jewishtoronto.com/calendar/honey-harvest-at-bela-farm-1455743507\n\nG
 et ready for a sweet new year by joining us at beautiful Bela Farm for 2 d
 ays of learning all about honey! Together we will study and extract the ho
 ney from our hives\, transferring it to hundreds of glass jars just in tim
 e for Rosh Hashana. All participants will receive a jar of honey as a gift
  and lots of free tasting.\n\nSpace is limited to 20 participants.\n\n \n
 \n \n\n 
DTSTART;TZID=America/Toronto:20160911T110000
DTEND;TZID=America/Toronto:20160913T140000
END:VEVENT
END:VCALENDAR
