BEGIN:VCALENDAR
PRODID:-//eluceo/ical//2.0/EN
VERSION:2.0
CALSCALE:GREGORIAN
BEGIN:VEVENT
UID:ab166b7da875c0e0bf29031bf53eceaa
DTSTAMP:20260420T024412Z
SUMMARY:Hon. Chrystia Freeland\, Ambassadors Deborah Lyons and Marc-Andre B
 anchard
DESCRIPTION:UJA Federation of Greater Toronto\nJewish Toronto Calendar\nhtt
 ps://jewishtoronto.com/calendar/hon-chrystia-freeland-ambassadors-deborah-
 lyons-and-marc-andre-banchard-1525888080\n\nThe Honourable Chrystia Freela
 nd\, Minister of Foreign Affairs\, joins Deborah Lyons\, Canada’s Ambass
 ador to Israel\, and Marc-Andre Blanchard\, Canada’s Ambassador and perm
 anent representative to the United Nations\, in conversation about Israel 
 issues and the Canada-Israel relationship\, moderated by Professor Irving 
 Abella\, president of the Royal Society of Canada.\n\nPresented by:\nThe S
 am & Sarah Kerzner and Joseph Kerzner Holocaust Memorial Lectures\nBeth Tz
 edec Congregation\nBeth Emeth...
DTSTART;TZID=America/Toronto:20180531T193000
DTEND;TZID=America/Toronto:20180531T213000
END:VEVENT
END:VCALENDAR
