BEGIN:VCALENDAR
PRODID:-//eluceo/ical//2.0/EN
VERSION:2.0
CALSCALE:GREGORIAN
BEGIN:VEVENT
UID:e5ef7ba2ed8e08dc68dda95d1c051519
DTSTAMP:20260423T170729Z
SUMMARY:Homentashn Baking Workshop
DESCRIPTION:UJA Federation of Greater Toronto\nJewish Toronto Calendar\nhtt
 ps://jewishtoronto.com/calendar/homentash-baking-workshop-1486596726\n\nAd
 vance registration required\n\nWhy bake homentashn at home alone when you 
 can do it with friends? Join us for a fun afternoon and make your own deli
 cious Purim treats to share with your friends and family.
DTSTART;TZID=America/Toronto:20170302T130000
DTEND;TZID=America/Toronto:20170302T150000
END:VEVENT
END:VCALENDAR
