BEGIN:VCALENDAR
PRODID:-//eluceo/ical//2.0/EN
VERSION:2.0
CALSCALE:GREGORIAN
BEGIN:VEVENT
UID:1d6b7486a6fc33b03a12816e651ceceb
DTSTAMP:20260419T181049Z
SUMMARY:Homelessness in a Whole New Light
DESCRIPTION:UJA Federation of Greater Toronto\nJewish Toronto Calendar\nhtt
 ps://jewishtoronto.com/calendar/homelessness-in-a-whole-new-light-17259104
 16\n\nOctober 10th is World Homeless Day and for the second year in a row\
 , Ve'ahavta is lighting up the CN Tower in Ve'ahavta colours to illuminate
  this social issue\, and the power we all possess to make a real differenc
 e. Register to attend Ve’ahavta’s lunchtime learning session\, Homeles
 sness in a whole new light. Register for Homelessness in a whole new light
  - an illuminating lunchtime learning session on homelessness and poverty 
 in our city and the small acts that you can do to make a real ...
DTSTART;TZID=America/Toronto:20241010T120000
DTEND;TZID=America/Toronto:20241010T130000
END:VEVENT
END:VCALENDAR
