BEGIN:VCALENDAR
PRODID:-//eluceo/ical//2.0/EN
VERSION:2.0
CALSCALE:GREGORIAN
BEGIN:VEVENT
UID:bd46f66a0e9c7aa7c07804155f3bff52
DTSTAMP:20260423T102454Z
SUMMARY:Holy Blossom Temple's "Impact of COVID-19 on Refugees in Canada"
DESCRIPTION:UJA Federation of Greater Toronto\nJewish Toronto Calendar\nhtt
 ps://jewishtoronto.com/calendar/holy-blossom-temples-impact-of-covid-19-on
 -refugees-in-canada-1589292821\n\nPresented by JIAS Toronto in partnership
  with Holy Blossom Temple\n\nImpact of COVID-19 on Refugees in Canada\nAs 
 the COVID-19 pandemic has spread\, refugees and displaced people around th
 e world have been disproportionately impacted by the virus – due to pove
 rty\, high-density living conditions\, border closures\, and other factors
 .\n\nJoin JIAS Toronto’s Executive Director Elise Herzig to learn more a
 bout the impact of COVID-19 on refugees in Canada. A dynamic panel will ad
 dress both the bi...
DTSTART;TZID=America/Toronto:20200514T120000
DTEND;TZID=America/Toronto:20200514T130000
END:VEVENT
END:VCALENDAR
