BEGIN:VCALENDAR
PRODID:-//eluceo/ical//2.0/EN
VERSION:2.0
CALSCALE:GREGORIAN
BEGIN:VEVENT
UID:0674f699022e83bec86bc8704d4bfbf9
DTSTAMP:20260423T131931Z
SUMMARY:Holy Blossom Temple Sisterhood  Mahj "Fun"draiser
DESCRIPTION:UJA Federation of Greater Toronto\nJewish Toronto Calendar\nhtt
 ps://jewishtoronto.com/calendar/holy-blossom-temple-sisterhood--mahj-fundr
 aiser-1481834133\n\nCome and enjoy a fun Mahj afternoon with your friends.
  Food will be provided.
DTSTART;TZID=America/Toronto:20170504T120000
DTEND;TZID=America/Toronto:20170504T160000
END:VEVENT
END:VCALENDAR
