BEGIN:VCALENDAR
PRODID:-//eluceo/ical//2.0/EN
VERSION:2.0
CALSCALE:GREGORIAN
BEGIN:VEVENT
UID:9142fd72579a682d438c77c365778bb2
DTSTAMP:20260420T155513Z
SUMMARY:Holy Blossom Temple presents L'Chaim!
DESCRIPTION:UJA Federation of Greater Toronto\nJewish Toronto Calendar\nhtt
 ps://jewishtoronto.com/calendar/holy-blossom-temple-presents-lchaim-158826
 7427\n\nL’Chaim!\nMondays\, Tuesdays\, Wednesdays\, and Thursdays from 5
 :15 – 5:55 pm\n\nRaise a glass or teacup with fellow congregants over Zo
 om and Join a conversation about coping with the pandemic.\n\nJack Kugelma
 ss\, dear congregant and social worker\, together with Cantorial Soloist L
 indi Rivers\, will introduce the chat with insight about how to diminish a
 nxiety during these trying times. Open and supportive discussion will foll
 ow until all are invited to join the Mincha service.\n\nClick here:...
DTSTART;TZID=America/Toronto:20200430T171500
DTEND;TZID=America/Toronto:20200430T175500
END:VEVENT
END:VCALENDAR
