BEGIN:VCALENDAR
PRODID:-//eluceo/ical//2.0/EN
VERSION:2.0
CALSCALE:GREGORIAN
BEGIN:VEVENT
UID:13ffdeb7e09df00993a92b0b4db70fa8
DTSTAMP:20260419T222015Z
SUMMARY:Holy Blossom Temple presents: Easy and Healthy Shabbat Meals
DESCRIPTION:UJA Federation of Greater Toronto\nJewish Toronto Calendar\nhtt
 ps://jewishtoronto.com/calendar/holy-blossom-temple-presents-easy-and-heal
 thy-shabbat-meals-1591201560\n\nAndrew Cohen\, temple member\, caterer\, e
 vent planner and culinary stylist has been creating thoughtfully curated S
 habbat meals for his clients during this Covid-19 home isolation period.On
  Friday\, June 5\, from 11:00 am – 12:00 pm\, Andrew will share some eas
 y recipes on how we can make our own Erev Shabbat meal as festive as possi
 ble.https://holyblossom.org/event/easy-and-healthy-shabbat-meals/
DTSTART;TZID=America/Toronto:20200605T110000
DTEND;TZID=America/Toronto:20200605T120000
END:VEVENT
END:VCALENDAR
