BEGIN:VCALENDAR
PRODID:-//eluceo/ical//2.0/EN
VERSION:2.0
CALSCALE:GREGORIAN
BEGIN:VEVENT
UID:0538600fda9540000e2fff8f55e4880d
DTSTAMP:20260426T004831Z
SUMMARY:Holy Blossom Shabbat Family Service & Camp Sendoff
DESCRIPTION:UJA Federation of Greater Toronto\nJewish Toronto Calendar\nhtt
 ps://jewishtoronto.com/calendar/holy-blossom-shabbat-family-service-camp-s
 endoff\n\n
DTSTART;TZID=America/Toronto:20240608T000000
DTEND;TZID=America/Toronto:20240608T235959
END:VEVENT
END:VCALENDAR
