BEGIN:VCALENDAR
PRODID:-//eluceo/ical//2.0/EN
VERSION:2.0
CALSCALE:GREGORIAN
BEGIN:VEVENT
UID:2e8767abf45d8fac0545328c60b0edd2
DTSTAMP:20260422T061006Z
SUMMARY:Holocaust survivors in Canada: Exclusion\, Inclusion\, Transformati
 on '47-'55
DESCRIPTION:UJA Federation of Greater Toronto\nJewish Toronto Calendar\nhtt
 ps://jewishtoronto.com/calendar/holocaust-survivors-in-canada-exclusion-in
 clusion-transformation-47-55\n\nProgram title: Holocaust survivors in Cana
 da: Exclusion\, Inclusion\, Transformation 1947 - 1955\n\nSpeaker Dr. Adar
 a Goldberg\n\nBeth David and Na’amat Canada Toronto are co-hosting guest
  speaker Dr. Adara Goldberg for our 35th Holocaust Education Week.\n\nDr. 
 Adara Goldberg received her PhD from Clark University and is currently the
  Education Director of the Vancouver Holocaust Centre. She is the recipien
 t of several international scholarships and has published numerous article
 s on the topi...
DTSTART;TZID=America/Toronto:20151105T193000
DTEND;TZID=America/Toronto:20151105T213000
END:VEVENT
END:VCALENDAR
