BEGIN:VCALENDAR
PRODID:-//eluceo/ical//2.0/EN
VERSION:2.0
CALSCALE:GREGORIAN
BEGIN:VEVENT
UID:6065267ae2d01147020196d62e44af21
DTSTAMP:20260422T012629Z
SUMMARY:Holocaust Survivor Program
DESCRIPTION:UJA Federation of Greater Toronto\nJewish Toronto Calendar\nhtt
 ps://jewishtoronto.com/calendar/holocaust-survivor-program-1535656674\n\nA
  time for reflection and renewal in preparation for the High Holydays for 
 our Holocaust Survivor Community.\n\nRegistration required \nContact Charl
 otte at 416-635-2900 ext 271
DTSTART;TZID=America/Toronto:20180906T130000
DTEND;TZID=America/Toronto:20180906T150000
END:VEVENT
END:VCALENDAR
