BEGIN:VCALENDAR
PRODID:-//eluceo/ical//2.0/EN
VERSION:2.0
CALSCALE:GREGORIAN
BEGIN:VEVENT
UID:920a2b25efae51cd30715328df5358d5
DTSTAMP:20260420T165506Z
SUMMARY:Holocaust Education Week Opening Night 2025
DESCRIPTION:UJA Federation of Greater Toronto\nJewish Toronto Calendar\nhtt
 ps://jewishtoronto.com/calendar/holocaust-education-week-opening-night-202
 5\n\nHolocaust Education Week Opening Night 2025.
DTSTART;TZID=America/Toronto:20251103T193000
DTEND;TZID=America/Toronto:20251103T213000
END:VEVENT
END:VCALENDAR
