BEGIN:VCALENDAR
PRODID:-//eluceo/ical//2.0/EN
VERSION:2.0
CALSCALE:GREGORIAN
BEGIN:VEVENT
UID:403091032b4645197605e61a236e83e6
DTSTAMP:20260421T105156Z
SUMMARY:Hollywood’s Oscar-Winning Songs
DESCRIPTION:UJA Federation of Greater Toronto\nJewish Toronto Calendar\nhtt
 ps://jewishtoronto.com/calendar/hollywoods-oscar-winning-songs-1513801506\
 n\nWith pianist/musicologist Jordan Klapman\nFrom 1934’s The Continental
  to 1969’s Raindrops Keep Fallin’ On My Head\, popular songs written 
 specifically for film by Jewish songwriters have won virtually half of all
  of the Oscars awarded for Best Song of The Year. Hooray for Hollywood!  
 \n
DTSTART;TZID=America/Toronto:20180125T130000
DTEND;TZID=America/Toronto:20180125T150000
END:VEVENT
END:VCALENDAR
