BEGIN:VCALENDAR
PRODID:-//eluceo/ical//2.0/EN
VERSION:2.0
CALSCALE:GREGORIAN
BEGIN:VEVENT
UID:977a332d40fe7b5d59198cafcbc4c1f5
DTSTAMP:20260420T061641Z
SUMMARY:UJA | Community Webinar
DESCRIPTION:UJA Federation of Greater Toronto\nJewish Toronto Calendar\nhtt
 ps://jewishtoronto.com/calendar/hold-ujaadwerew\n\nDetails to follow
DTSTART;TZID=America/Toronto:20240718T120000
DTEND;TZID=America/Toronto:20240718T130000
END:VEVENT
END:VCALENDAR
