BEGIN:VCALENDAR
PRODID:-//eluceo/ical//2.0/EN
VERSION:2.0
CALSCALE:GREGORIAN
BEGIN:VEVENT
UID:817e8114f69a7794ac66d919e5a7c4d3
DTSTAMP:20260419T131813Z
SUMMARY:HOLD | UJA Southern Hospitality Lion of Judah event
DESCRIPTION:UJA Federation of Greater Toronto\nJewish Toronto Calendar\nhtt
 ps://jewishtoronto.com/calendar/hold-uja-southern-hospitality-lion-of-juda
 h-eventSQw\n\nDetails coming soon
DTSTART;TZID=America/Toronto:20280207T000000
DTEND;TZID=America/Toronto:20280207T235959
END:VEVENT
END:VCALENDAR
