BEGIN:VCALENDAR
PRODID:-//eluceo/ical//2.0/EN
VERSION:2.0
CALSCALE:GREGORIAN
BEGIN:VEVENT
UID:3629a60a1167832f84de102605774d77
DTSTAMP:20260419T212410Z
SUMMARY:UJA HOLD | Campaign Launch
DESCRIPTION:UJA Federation of Greater Toronto\nJewish Toronto Calendar\nhtt
 ps://jewishtoronto.com/calendar/hold-uja-campaign-launchaaaaa\n\nUJA's Ann
 ual Campaign Launch.
DTSTART;TZID=America/Toronto:20270915T000000
DTEND;TZID=America/Toronto:20270915T235959
END:VEVENT
END:VCALENDAR
