BEGIN:VCALENDAR
PRODID:-//eluceo/ical//2.0/EN
VERSION:2.0
CALSCALE:GREGORIAN
BEGIN:VEVENT
UID:305e08a731e421e1328d8fe6c5618e2b
DTSTAMP:20260421T071430Z
SUMMARY:UJA Private Event
DESCRIPTION:UJA Federation of Greater Toronto\nJewish Toronto Calendar\nhtt
 ps://jewishtoronto.com/calendar/hold-uja-awards-night\n\nThis is a private
  event.
DTSTART;TZID=America/Toronto:20251202T000000
DTEND;TZID=America/Toronto:20251202T235959
END:VEVENT
END:VCALENDAR
