BEGIN:VCALENDAR
PRODID:-//eluceo/ical//2.0/EN
VERSION:2.0
CALSCALE:GREGORIAN
BEGIN:VEVENT
UID:7b30e73be65b8b61c7b5d0482e663cc1
DTSTAMP:20260420T112700Z
SUMMARY:UJA HOLD | Southern Hospitality PLG Event
DESCRIPTION:UJA Federation of Greater Toronto\nJewish Toronto Calendar\nhtt
 ps://jewishtoronto.com/calendar/hold-southern-hospitality-plg-event\n\nTBD
 . 
DTSTART;TZID=America/Toronto:20270204T180000
DTEND;TZID=America/Toronto:20270204T210000
END:VEVENT
END:VCALENDAR
