BEGIN:VCALENDAR
PRODID:-//eluceo/ical//2.0/EN
VERSION:2.0
CALSCALE:GREGORIAN
BEGIN:VEVENT
UID:10df7acb4b2ffce4e6c14e0369c602e3
DTSTAMP:20260419T192920Z
SUMMARY:Hold: Sheba Medical Center - Gala
DESCRIPTION:UJA Federation of Greater Toronto\nJewish Toronto Calendar\nhtt
 ps://jewishtoronto.com/calendar/hold-sheba-medical-center---gala-177082615
 4\n\nCanadian Friends of Sheba is proud to present our annual Gala. Furthe
 r details to follow.
DTSTART;TZID=America/Toronto:20270509T183000
DTEND;TZID=America/Toronto:20270509T203000
END:VEVENT
END:VCALENDAR
