BEGIN:VCALENDAR
PRODID:-//eluceo/ical//2.0/EN
VERSION:2.0
CALSCALE:GREGORIAN
BEGIN:VEVENT
UID:4a0e653df7e1190bdfd6130ae277981c
DTSTAMP:20260425T183624Z
SUMMARY:UJA | Atarah Garden Party
DESCRIPTION:UJA Federation of Greater Toronto\nJewish Toronto Calendar\nhtt
 ps://jewishtoronto.com/calendar/hold-atarah-garden-party\n\nPrivate event.
DTSTART;TZID=America/Toronto:20250612T000000
DTEND;TZID=America/Toronto:20250612T235959
END:VEVENT
END:VCALENDAR
