BEGIN:VCALENDAR
PRODID:-//eluceo/ical//2.0/EN
VERSION:2.0
CALSCALE:GREGORIAN
BEGIN:VEVENT
UID:9870e00557a02a8b30feb49baee29110
DTSTAMP:20260422T031835Z
SUMMARY:Hockey Night in Shushan 
DESCRIPTION:UJA Federation of Greater Toronto\nJewish Toronto Calendar\nhtt
 ps://jewishtoronto.com/calendar/hockey-night-in-shushan\n\nHockey Night in
  Shushan (Ages 7+\, all skill levels welcome!)\nSaturday February 28 |7:00
  - 11:00 pm (no latecomers)\nBring your whole family to play or cheer at t
 his family ball hockey tournament! Purim costumes encouraged. Snacks\, pri
 zes\, live music! Play for a team prize! Groove to live pop and hip-hop wi
 th Turn Up Entertainment with dance and costume competitions while you’r
 e “off the ice”. \nLimited spaces available so reserve your spot now!
 \n$20 per family (up to 5 people) - Regis...
DTSTART;TZID=America/Toronto:20150228T190000
DTEND;TZID=America/Toronto:20150228T230000
END:VEVENT
END:VCALENDAR
