BEGIN:VCALENDAR
PRODID:-//eluceo/ical//2.0/EN
VERSION:2.0
CALSCALE:GREGORIAN
BEGIN:VEVENT
UID:ccbf8232617c5a06404b123a744667bb
DTSTAMP:20260424T165101Z
SUMMARY:Higher and Higher: Exploring Prayers from the Days of Awe
DESCRIPTION:UJA Federation of Greater Toronto\nJewish Toronto Calendar\nhtt
 ps://jewishtoronto.com/calendar/higher-and-higher-exploring-prayers-from-t
 he-days-of-awe-1598468030\n\nIn the third session of this Zoom series\, jo
 in Rabbi Baruch Frydman-Kohl to take a peek into two Yom Kippur prayer-poe
 ms\, examining what they say about God and what they reveal about us. For 
 details\, visit www.beth-tzedec.org. 
DTSTART;TZID=America/Toronto:20200921T130000
DTEND;TZID=America/Toronto:20200921T134500
END:VEVENT
END:VCALENDAR
