BEGIN:VCALENDAR
PRODID:-//eluceo/ical//2.0/EN
VERSION:2.0
CALSCALE:GREGORIAN
BEGIN:VEVENT
UID:0d0dacaea8166e283aace93b1be6ab7b
DTSTAMP:20260425T152850Z
SUMMARY:Higher and Higher: Exploring Prayers from the Days of Awe
DESCRIPTION:UJA Federation of Greater Toronto\nJewish Toronto Calendar\nhtt
 ps://jewishtoronto.com/calendar/higher-and-higher-exploring-prayers-from-t
 he-days-of-awe-1598467796\n\nIn the second session of this five-part Zoom 
 series\, learn about Unetane Tokef with Yacov Fruchter.  For details\, vis
 it www.beth-tzedec.org. 
DTSTART;TZID=America/Toronto:20200914T130000
DTEND;TZID=America/Toronto:20200914T134500
END:VEVENT
END:VCALENDAR
