BEGIN:VCALENDAR
PRODID:-//eluceo/ical//2.0/EN
VERSION:2.0
CALSCALE:GREGORIAN
BEGIN:VEVENT
UID:c656a8b44e09132f90f7d66fee5da2e2
DTSTAMP:20260425T211441Z
SUMMARY:Higher and Higher: Exploring Prayers from the Days of Awe
DESCRIPTION:UJA Federation of Greater Toronto\nJewish Toronto Calendar\nhtt
 ps://jewishtoronto.com/calendar/higher-and-higher-exploring-prayers-from-t
 he-days-of-awe-1598467626\n\nIn the first session of this five-part Zoom s
 eries\, learn about Avinu Malkeinu with Rabbi Robyn Fryer Bodzin.  For det
 ails\, visit www.beth-tzedec.org. 
DTSTART;TZID=America/Toronto:20200831T130000
DTEND;TZID=America/Toronto:20200831T134500
END:VEVENT
END:VCALENDAR
